BEGIN:VCALENDAR
VERSION:2.0
PRODID:-//SICOF - ECPv6.15.20//NONSGML v1.0//EN
CALSCALE:GREGORIAN
METHOD:PUBLISH
X-WR-CALNAME:SICOF
X-ORIGINAL-URL:https://sicof-asso.fr
X-WR-CALDESC:Évènements pour SICOF
REFRESH-INTERVAL;VALUE=DURATION:PT1H
X-Robots-Tag:noindex
X-PUBLISHED-TTL:PT1H
BEGIN:VTIMEZONE
TZID:Europe/Paris
BEGIN:DAYLIGHT
TZOFFSETFROM:+0100
TZOFFSETTO:+0200
TZNAME:CEST
DTSTART:20210328T010000
END:DAYLIGHT
BEGIN:STANDARD
TZOFFSETFROM:+0200
TZOFFSETTO:+0100
TZNAME:CET
DTSTART:20211031T010000
END:STANDARD
BEGIN:DAYLIGHT
TZOFFSETFROM:+0100
TZOFFSETTO:+0200
TZNAME:CEST
DTSTART:20220327T010000
END:DAYLIGHT
BEGIN:STANDARD
TZOFFSETFROM:+0200
TZOFFSETTO:+0100
TZNAME:CET
DTSTART:20221030T010000
END:STANDARD
BEGIN:DAYLIGHT
TZOFFSETFROM:+0100
TZOFFSETTO:+0200
TZNAME:CEST
DTSTART:20230326T010000
END:DAYLIGHT
BEGIN:STANDARD
TZOFFSETFROM:+0200
TZOFFSETTO:+0100
TZNAME:CET
DTSTART:20231029T010000
END:STANDARD
END:VTIMEZONE
BEGIN:VEVENT
DTSTART;TZID=Europe/Paris:20220303T133000
DTEND;TZID=Europe/Paris:20220303T173000
DTSTAMP:20260422T032811
CREATED:20220224T094957Z
LAST-MODIFIED:20220224T094957Z
UID:3400-1646314200-1646328600@sicof-asso.fr
SUMMARY:Naturopathie et réflexologie plantaire
DESCRIPTION:Séances individuelles d’1h \nRéservation au 06 17 10 77 14
URL:https://sicof-asso.fr/evenement/naturopathie-et-reflexologie-plantaire-2/
LOCATION:Maison des Soins de Support – Uxem
CATEGORIES:Naturopathie - Réflexologie Plantaire
END:VEVENT
BEGIN:VEVENT
DTSTART;TZID=Europe/Paris:20220310T133000
DTEND;TZID=Europe/Paris:20220310T173000
DTSTAMP:20260422T032811
CREATED:20220224T095032Z
LAST-MODIFIED:20220224T095032Z
UID:3402-1646919000-1646933400@sicof-asso.fr
SUMMARY:Naturopathie et réflexologie plantaire
DESCRIPTION:Séances individuelles d’1h \nRéservation au 06 17 10 77 14
URL:https://sicof-asso.fr/evenement/naturopathie-et-reflexologie-plantaire-3/
LOCATION:Maison des Soins de Support – Uxem
CATEGORIES:Naturopathie - Réflexologie Plantaire
END:VEVENT
BEGIN:VEVENT
DTSTART;TZID=Europe/Paris:20220317T133000
DTEND;TZID=Europe/Paris:20220317T173000
DTSTAMP:20260422T032811
CREATED:20220224T095058Z
LAST-MODIFIED:20220224T095058Z
UID:3404-1647523800-1647538200@sicof-asso.fr
SUMMARY:Naturopathie et réflexologie plantaire
DESCRIPTION:Séances individuelles d’1h \nRéservation au 06 17 10 77 14
URL:https://sicof-asso.fr/evenement/naturopathie-et-reflexologie-plantaire-4/
LOCATION:Maison des Soins de Support – Uxem
CATEGORIES:Naturopathie - Réflexologie Plantaire
END:VEVENT
BEGIN:VEVENT
DTSTART;TZID=Europe/Paris:20220324T133000
DTEND;TZID=Europe/Paris:20220324T173000
DTSTAMP:20260422T032811
CREATED:20220224T095125Z
LAST-MODIFIED:20220224T095125Z
UID:3406-1648128600-1648143000@sicof-asso.fr
SUMMARY:Naturopathie et réflexologie plantaire
DESCRIPTION:Séances individuelles d’1h \nRéservation au 06 17 10 77 14
URL:https://sicof-asso.fr/evenement/naturopathie-et-reflexologie-plantaire-5/
LOCATION:Maison des Soins de Support – Uxem
CATEGORIES:Naturopathie - Réflexologie Plantaire
END:VEVENT
BEGIN:VEVENT
DTSTART;TZID=Europe/Paris:20220331T133000
DTEND;TZID=Europe/Paris:20220331T173000
DTSTAMP:20260422T032811
CREATED:20220224T095154Z
LAST-MODIFIED:20220224T095154Z
UID:3408-1648733400-1648747800@sicof-asso.fr
SUMMARY:Naturopathie et réflexologie plantaire
DESCRIPTION:Séances individuelles d’1h \nRéservation au 06 17 10 77 14
URL:https://sicof-asso.fr/evenement/naturopathie-et-reflexologie-plantaire-6/
LOCATION:Maison des Soins de Support – Uxem
CATEGORIES:Naturopathie - Réflexologie Plantaire
END:VEVENT
END:VCALENDAR